BEGIN:VCALENDAR
VERSION:2.0
PRODID:-//Studio Wishdom - ECPv6.15.20//NONSGML v1.0//EN
CALSCALE:GREGORIAN
METHOD:PUBLISH
X-WR-CALNAME:Studio Wishdom
X-ORIGINAL-URL:https://studiowishdom.nl
X-WR-CALDESC:Evenementen voor Studio Wishdom
REFRESH-INTERVAL;VALUE=DURATION:PT1H
X-Robots-Tag:noindex
X-PUBLISHED-TTL:PT1H
BEGIN:VTIMEZONE
TZID:Europe/Amsterdam
BEGIN:DAYLIGHT
TZOFFSETFROM:+0100
TZOFFSETTO:+0200
TZNAME:CEST
DTSTART:20200329T010000
END:DAYLIGHT
BEGIN:STANDARD
TZOFFSETFROM:+0200
TZOFFSETTO:+0100
TZNAME:CET
DTSTART:20201025T010000
END:STANDARD
BEGIN:DAYLIGHT
TZOFFSETFROM:+0100
TZOFFSETTO:+0200
TZNAME:CEST
DTSTART:20210328T010000
END:DAYLIGHT
BEGIN:STANDARD
TZOFFSETFROM:+0200
TZOFFSETTO:+0100
TZNAME:CET
DTSTART:20211031T010000
END:STANDARD
BEGIN:DAYLIGHT
TZOFFSETFROM:+0100
TZOFFSETTO:+0200
TZNAME:CEST
DTSTART:20220327T010000
END:DAYLIGHT
BEGIN:STANDARD
TZOFFSETFROM:+0200
TZOFFSETTO:+0100
TZNAME:CET
DTSTART:20221030T010000
END:STANDARD
BEGIN:DAYLIGHT
TZOFFSETFROM:+0100
TZOFFSETTO:+0200
TZNAME:CEST
DTSTART:20230326T010000
END:DAYLIGHT
BEGIN:STANDARD
TZOFFSETFROM:+0200
TZOFFSETTO:+0100
TZNAME:CET
DTSTART:20231029T010000
END:STANDARD
BEGIN:DAYLIGHT
TZOFFSETFROM:+0100
TZOFFSETTO:+0200
TZNAME:CEST
DTSTART:20240331T010000
END:DAYLIGHT
BEGIN:STANDARD
TZOFFSETFROM:+0200
TZOFFSETTO:+0100
TZNAME:CET
DTSTART:20241027T010000
END:STANDARD
BEGIN:DAYLIGHT
TZOFFSETFROM:+0100
TZOFFSETTO:+0200
TZNAME:CEST
DTSTART:20250330T010000
END:DAYLIGHT
BEGIN:STANDARD
TZOFFSETFROM:+0200
TZOFFSETTO:+0100
TZNAME:CET
DTSTART:20251026T010000
END:STANDARD
BEGIN:DAYLIGHT
TZOFFSETFROM:+0100
TZOFFSETTO:+0200
TZNAME:CEST
DTSTART:20260329T010000
END:DAYLIGHT
BEGIN:STANDARD
TZOFFSETFROM:+0200
TZOFFSETTO:+0100
TZNAME:CET
DTSTART:20261025T010000
END:STANDARD
BEGIN:DAYLIGHT
TZOFFSETFROM:+0100
TZOFFSETTO:+0200
TZNAME:CEST
DTSTART:20270328T010000
END:DAYLIGHT
BEGIN:STANDARD
TZOFFSETFROM:+0200
TZOFFSETTO:+0100
TZNAME:CET
DTSTART:20271031T010000
END:STANDARD
END:VTIMEZONE
BEGIN:VEVENT
DTSTART;TZID=Europe/Amsterdam:20211228T143000
DTEND;TZID=Europe/Amsterdam:20211228T160000
DTSTAMP:20260422T121121
CREATED:20211210T085857Z
LAST-MODIFIED:20211221T133400Z
UID:220698-1640701800-1640707200@studiowishdom.nl
SUMMARY:knutselfeest - geannuleerd ivm lockdown
DESCRIPTION:Ben je op zoek naar een creatieve activiteit voor jouw kind in een feestelijke omgeving?\nHoud jouw dochter of zoon van tekenen\, knutselen en dappere verhalen?\nWil jij jouw kind graag helpen met meer zelfvertrouwen?\nWil je graag weten of jouw kind enthousiast is om mee te doen met nieuwe lessenserie?\n\nGeef jouw kind dan op voor het super toffe knutselfeest tijdens de kerstvakantie bij de Happy Storykids in Kortenhoef\, Koninginneweg 62. De activiteiten zijn speciaal ontwikkeld voor creatieve doeners en denkers in de leeftijd van 8 tot 12 jaar. \nDeze middag kunnen kinderen kiezen uit één van de drie workshops;\n1. Doosje geluk\, 2. Graffiti tekenen of 3. Held op Stokken. \nBij de workshops van de Happy Storykids beleven kinderen niet alleen veel plezier. Door mee te doen aan de workshops vergroten kinderen hun creatieve talenten én ze versterken ook hun zelfvertrouwen. De verschillende workshops helpen kinderen en ouders om in gesprek te gaan over alledaagse onderwerpen die belangrijk zijn in het leven van een kind. Kinderen vertellen veel meer over zichzelf als zij aan het tekenen\, knutselen of spelen zijn. \nHoe dan? De verschillende workshops helpen jou en je kind op weg. \n\n\nDoosje geluk\nKinderen gaan een doosje geluk versieren. Voordat ze ermee aan de slag gaan wordt het thema geluk kort besproken.  Met het nieuwe jaar in aantocht wensen wij elkaar het allerbeste toe; “een heel mooi jaar in goede gezondheid”\, “dat al je wensen mogen uitkomen”\, ‘veel geluk!”\, etc.\nWie en wanneer wens je iemand geluk\, waarom\, wat zeg je dan\, hoe verschillen deze tradities per cultuur\, wat brengt jou geluk\, wat betekent geluk voor jou\, etc.\nHet doosje geluk kunnen kinderen voor iemand anders maken\, maar ook voor zichzelf.\nHet doosje wordt gevuld met hartenkaartjes\, waarop kinderen iets liefs\, leuks of grappigs op kunnen zetten. \nOuders krijgen een hand-out mee met tips en trucs hoe ze het geluksdoosje kunnen gebruiken om hun kind te helpen als het moeite heeft met bijvoorbeeld slapen\, angstig is of wat meer zelfvertrouwen kan gebruiken.\n\nGraffiti tekenen\nKinderen gaan de slag met het ontwerpen van feestelijke letters. Om ze daarbij te helpen krijgen ze een aantal werkbladen. Kinderen sluiten af met het ontwerp van een kleine poster dat ze in een fotolijstje op hun bureau kunnen zetten of aan de muur kunnen ophangen. Het ontwerp zal een glimlach op het gezicht van de kinderen brengen.\nIn deze workshop vergroten kinderen hun tekenvaardigheden en ze leren werken met o.a. acquarelpotloden. Tevens wordt verteld hoe leuke en grappige teksten kunnen helpen om jezelf op te vrolijken als het even tegenzit. \nOuders krijgen een hand-out mee met tips en trucs hoe ze creatieve talenten van hun kind kunnen inzetten om hun zelfvertrouwen en weerbaarheid te versterken.\n\nHeld op stokken\nKinderen maken een stokpop. Het karakter kiest het kind zelf uit. Ter inspiratie liggen er verschillende voorbeelden waar de kinderen uit kunnen kiezen.\nDoor gebruik van wiebeloogjes en flexibele pijpenrager voor de armen wordt het extra aantrekkelijk om met de poppen te gaan spelen.Ook als kinderen deze workshop al eerder hebben gedaan blijft het leuk om te doen. Kinderen maken gewoon een verzameling stokpoppen\, die tezamen weer een mooi verhaal tot leven kunnen brengen. \nKinderen uiten zich makkelijker terwijl zij aan het spelen of knutselen zijn. Dat is zeker zo\, wanneer zij met poppen gaan spelen. Al gauw ontstaan er de leukste gesprekken. Kinderen ervaren poppen als veilig speelmaatje. Ze kunnen er makkelijk hun hart luchten. \nOuders ontvangen een hand-out met tips en trucs die ouder en kind helpen om hartverwarmende gesprekken te kunnen hebben met behulp van spel en creativiteit. \n\n\nAanmelden\nBen je enthousiast en wil je graag kennis maken met de activiteiten van de Happy Storykids? Geef je dan op via de online aanmeldformulier. Deze vind je onderaan op de pagina.  Ik geef kinderen graag extra aandacht en hulp om hun ideeën uit te werken. Daarom is er plaats voor maximaal  6 cursisten. \nEenvoudig betalen\nBij ontvangst van betaling is de reservering definitief.  Je betaalt eenvoudig via Ideal. Als jouw kind op de dag van deelname tevergeefs corona-klachten heeft\, dan hoeft hij of zij niets te missen.  We plannen dan gewoon een ander moment\, waarop jouw kind de workshop kan doen. \nStart lessenserie 11 januari 2022\nBen je op zoek naar een naschoolse activiteit\, waar creatieve en persoonlijke ontwikkeling van jouw kind centraal staat? Op dinsdag 11 januari 2022 gaat een nieuwe lessenserie van start. De lessenserie bestaat uit een reeks workshops\, waarin kinderen stap voor stap kennismaken met verschillende vertel-\, spel- en maakkunsten om een heldenverhaal tot leven te brengen.  \nHet programma is ontwikkeld voor creatief/artistiek begaafde kinderen. Er wordt extra aandacht besteed aan de creatieve en intuïtieve manier van leren. Dat betekent o.a. dat kinderen extra gestimuleerd worden hun creatieve talenten te ontwikkelen en benutten. De kinderen krijgen ook meer inzicht in de manier waarop zij leren\, zodat zij o.a. minder snel gefrustreerd raken als iets niet lukt. \nWil je meer informatie over de lessenserie kijk dan op de agenda. Daar vind je uitgebreide informatie. Ben je geïnteresseerd neem dan contact op voor een gratis intake gesprek. \nZowel de workshop als de lessenserie wordt verzorgd door Carola Pelder. Zij heeft jarenlange ervaring in talentontwikkeling van creatief begaafde kinderen en volwassene. Haar expertise is gericht op begeleiding van ouders en kinderen met ASS. \n\n 
URL:https://studiowishdom.nl/evenement/knutselfeest-tijdens-de-kerstvakantie/
LOCATION:Studio Wishdom\, Koninginneweg 62\, Kortenhoef\, 1241 CW\, Nederland
CATEGORIES:Studio Wishdom
ATTACH;FMTTYPE=image/jpeg:https://studiowishdom.nl/wp-content/uploads/2020/06/held-op-stokken.jpg
ORGANIZER;CN="Studio Wishdom - Carola Pelder":MAILTO:info@studiowishdom.nl
END:VEVENT
BEGIN:VEVENT
DTSTART;TZID=Europe/Amsterdam:20220104T143000
DTEND;TZID=Europe/Amsterdam:20220104T160000
DTSTAMP:20260422T121121
CREATED:20211210T085934Z
LAST-MODIFIED:20211221T133821Z
UID:220700-1641306600-1641312000@studiowishdom.nl
SUMMARY:knutselfeest - geannuleerd i.v.m. lockdown
DESCRIPTION:Ben je op zoek naar een creatieve activiteit voor jouw kind in een feestelijke omgeving?\nHoud jouw dochter of zoon van tekenen\, knutselen en dappere verhalen?\nWil jij jouw kind graag helpen met meer zelfvertrouwen?\nWil je graag weten of jouw kind enthousiast is om mee te doen met nieuwe lessenserie?\n\n \nGeef jouw kind dan op voor het super toffe knutselfeest tijdens de kerstvakantie bij de Happy Storykids in Kortenhoef\, Koninginneweg 62. De activiteiten zijn speciaal ontwikkeld voor creatieve doeners en denkers in de leeftijd van 8 tot 12 jaar.\nDeze middag kunnen kinderen kiezen uit één van de drie workshops;\n1. Doosje geluk\, 2. Graffiti tekenen of 3. Held op Stokken. \nBij de workshops van de Happy Storykids beleven kinderen niet alleen veel plezier. Door mee te doen aan de workshops vergroten kinderen hun creatieve talenten én ze versterken ook hun zelfvertrouwen. De verschillende workshops helpen kinderen en ouders om in gesprek te gaan over alledaagse onderwerpen die belangrijk zijn in het leven van een kind. Kinderen vertellen veel meer over zichzelf als zij aan het tekenen\, knutselen of spelen zijn. \nHoe dan? De verschillende workshops helpen jou en je kind op weg. \n\n\nDoosje geluk\nKinderen gaan een doosje geluk versieren. Voordat ze ermee aan de slag gaan wordt het thema geluk kort besproken.  Met het nieuwe jaar in aantocht wensen wij elkaar het allerbeste toe; “een heel mooi jaar in goede gezondheid”\, “dat al je wensen mogen uitkomen”\, ‘veel geluk!”\, etc.\nWie en wanneer wens je iemand geluk\, waarom\, wat zeg je dan\, hoe verschillen deze tradities per cultuur\, wat brengt jou geluk\, wat betekent geluk voor jou\, etc.\nHet doosje geluk kunnen kinderen voor iemand anders maken\, maar ook voor zichzelf.\nHet doosje wordt gevuld met hartenkaartjes\, waarop kinderen iets liefs\, leuks of grappigs op kunnen zetten. \nOuders krijgen een hand-out mee met tips en trucs hoe ze het geluksdoosje kunnen gebruiken om hun kind te helpen als het moeite heeft met bijvoorbeeld slapen\, angstig is of wat meer zelfvertrouwen kan gebruiken.\n\nGraffiti tekenen\nKinderen gaan de slag met het ontwerpen van feestelijke letters. Om ze daarbij te helpen krijgen ze een aantal werkbladen. Kinderen sluiten af met het ontwerp van een kleine poster dat ze in een fotolijstje op hun bureau kunnen zetten of aan de muur kunnen ophangen. Het ontwerp zal een glimlach op het gezicht van de kinderen brengen.\nIn deze workshop vergroten kinderen hun tekenvaardigheden en ze leren werken met o.a. acquarelpotloden. Tevens wordt verteld hoe leuke en grappige teksten kunnen helpen om jezelf op te vrolijken als het even tegenzit. \nOuders krijgen een hand-out mee met tips en trucs hoe ze creatieve talenten van hun kind kunnen inzetten om hun zelfvertrouwen en weerbaarheid te versterken.\n\nHeld op stokken\nKinderen maken een stokpop. Het karakter kiest het kind zelf uit. Ter inspiratie liggen er verschillende voorbeelden waar de kinderen mee aan de slag kunnen.\nDoor gebruik van wiebeloogjes en flexibele pijpenrager voor de armen wordt het extra aantrekkelijk om met de poppen te gaan spelen. Ook als kinderen deze workshop al eerder hebben gedaan blijft het leuk om te doen. Kinderen maken gewoon een verzameling stokpoppen\, waarmee ze een eigen verhaal tot leven kunnen brengen. \nKinderen uiten zich makkelijker terwijl zij aan het spelen of knutselen zijn. Dat is zeker zo\, wanneer zij met poppen gaan spelen. Kinderen beschouwen poppen als veilig speelmaatje. Al gauw ontstaan er de leukste en meest verrassende gesprekken. \nOuders ontvangen een hand-out met tips en trucs die ouder en kind helpen om hartverwarmende gesprekken te kunnen hebben met behulp van spel en creativiteit. \n\n\nAanmelden\nBen je enthousiast en wil je graag kennis maken met de activiteiten van de Happy Storykids? Geef je dan op via de online aanmeldformulier. Deze vind je onderaan op de pagina.  De kinderen krijgen extra aandacht en hulp om hun ideeën uit te werken. Daarom is er plaats voor maximaal  6 cursisten. \nEenvoudig betalen\nBij ontvangst van betaling is de reservering definitief.  Je betaalt eenvoudig via Ideal. Als jouw kind op de dag van deelname tevergeefs corona-klachten heeft\, dan hoeft hij of zij niets te missen.  We plannen dan gewoon een ander moment\, waarop jouw kind de workshop kan doen. \nStart online lesprogramma Heldenverhalen\n\nDe lessenserie bestaat uit een reeks workshops\, waarin kinderen stap voor stap kennismaken met verschillende vertel-\, spel- en maakkunsten om een heldenverhaal tot leven te brengen.  \nHet programma is ontwikkeld voor creatief/artistiek begaafde kinderen. Er wordt extra aandacht besteed aan de creatieve en intuïtieve manier van leren. Dat betekent o.a. dat kinderen extra gestimuleerd worden hun creatieve talenten te ontwikkelen en benutten. De kinderen krijgen ook meer inzicht in de manier waarop zij leren\, zodat zij o.a. minder snel gefrustreerd raken als iets niet lukt. \nWil je meer informatie over de lessenserie kijk dan op de agenda. Daar vind je uitgebreide informatie. Ben je geïnteresseerd neem dan contact op voor een gratis intake gesprek. \nZowel de workshop als de lessenserie wordt verzorgd door Carola Pelder. Zij heeft jarenlange ervaring in talentontwikkeling van creatief begaafde kinderen en volwassene. Haar expertise is gericht op begeleiding van ouders en kinderen met ASS.\n\n \n 
URL:https://studiowishdom.nl/evenement/knutselfeest-tijdens-de-kerstvakantie-2/
LOCATION:Studio Wishdom\, Koninginneweg 62\, Kortenhoef\, 1241 CW\, Nederland
CATEGORIES:Studio Wishdom
ATTACH;FMTTYPE=image/jpeg:https://studiowishdom.nl/wp-content/uploads/2020/06/held-op-stokken.jpg
ORGANIZER;CN="Studio Wishdom - Carola Pelder":MAILTO:info@studiowishdom.nl
END:VEVENT
BEGIN:VEVENT
DTSTART;TZID=Europe/Amsterdam:20220225T150000
DTEND;TZID=Europe/Amsterdam:20220225T170000
DTSTAMP:20260422T121121
CREATED:20211210T095620Z
LAST-MODIFIED:20211221T132644Z
UID:220706-1645801200-1645808400@studiowishdom.nl
SUMMARY:Lessenserie Heldenverhalen
DESCRIPTION:Wil jij jouw kind helpen met meer zelfvertrouwen?\nVind jouw kind het lastig om te vertellen wat er aan de hand is?\nWil jij jouw kind beter begrijpen?\nHoud jouw kind van tekenen\, spel en knutselen? \nDan is deze nieuwe lessenserie heel waardevol. \nTijdens 12 workshops doet jouw kind ervaring op met verschillende creatieve werkvormen die het zelfvertrouwen en de mogelijkheden voor betere communicatie versterken. \nKinderen uiten zich makkelijker in spel en creativiteit. Als je kinderen vraagt hoe zij zich voelen\, zul je waarschijnlijk een kort gesprek hebben. Kinderen hebben vaak nog niet de taal om hun gevoelens en emoties onder woorden te brengen. De woorden ontbreken gewoonweg nog.  Ook zijn kinderen in ontwikkeling. Naarmate kinderen ouder worden ontwikkelen ze steeds meer emoties en gevoelens. Gevoelens van bijvoorbeeld boosheid\, angst\, schaamte\, verliefdheid\, verlegenheid kunnen ze wel voelen maar weten nog niet hoe ze ermee moeten omgaan. Ze stoppen het weg\, of uiten het in alle heftigheid. \nSpel en creatieve werkvormen helpt kinderen om taal en woorden te vinden voor hun emoties en gevoelens.  Het is daarom belangrijk dat kinderen\, ongeacht hun leeftijd\, blijven spelen en knutselen. \nTijdens 12 workshops doet jouw kind ervaring op met verschillende creatieve werkvormen die het zelfvertrouwen en de mogelijkheden voor betere communicatie versterken. \nGeef je dan op via www.studiowishdom.nl.\nHet aantal cursusplaatsen is beperkt. Ik hou rekening met de Coronaregels van de Rijksoverheid. \n\n 
URL:https://studiowishdom.nl/evenement/lessenserie-heldenverhalen/
LOCATION:Studio Wishdom\, Koninginneweg 62\, Kortenhoef\, 1241 CW\, Nederland
CATEGORIES:Studio Wishdom
ATTACH;FMTTYPE=image/jpeg:https://studiowishdom.nl/wp-content/uploads/2021/12/programma-voorjaar-2022-happy-storykids-500x700-1.jpg
ORGANIZER;CN="Studio Wishdom - Carola Pelder":MAILTO:info@studiowishdom.nl
END:VEVENT
BEGIN:VEVENT
DTSTART;TZID=Europe/Amsterdam:20231101T100000
DTEND;TZID=Europe/Amsterdam:20231105T170000
DTSTAMP:20260422T121121
CREATED:20230208T115749Z
LAST-MODIFIED:20230719T105236Z
UID:221032-1698832800-1699203600@studiowishdom.nl
SUMMARY:KreaDoe Beurs
DESCRIPTION:Speel en knutsel met me mee! \nWelkom bij de Geluksboetiek! Dit is de plek waar creativiteit\, spel en dappere verhalen tot leven komen. \nJe vindt ons op de KreaDoe beurs (Hal 3 – stand D025) op\n– vrijdag 14 april a.s.\n– zaterdag 15 april a.s. en\n– zondag 16 april a.s. \nKnutsel met ons mee.  Je kunt kiezen uit 3 verschillende knutselpakkertjes. \n\nEen doosje geluk\nVriendenboekje\nHeld op Stokken\n\nBij de Geluksboetiek vind je cadeaus die jou en je kind creatiever en gelukkiger maken. Dit is de plek voor creatieve doeners en denkers. \nMet de cadeaus van de Geluksboetiek laten wij je ervaren hoe spel en creativiteit niet alleen voor heel veel pret zorgt. Onze cadeaus zorgen er ook voor\, dat kinderen makkelijker hun eigen verhaal vertellen. Dat geeft zelfvertrouwen. \nBlijf op de hoogte van creatieve tips\, gratis DIY workshops en mooie aanbiedingen.\nSchrijf je in voor onze nieuwsbrief en je ontvangt onze maandelijkse nieuwsbrief. \nGraag tot ziens op de KreaDoe Beurs in Utrecht! \n  \n 
URL:https://studiowishdom.nl/evenement/kreadoe-beurs/
ATTACH;FMTTYPE=image/jpeg:https://studiowishdom.nl/wp-content/uploads/2023/02/kreadoe-agenda.jpg
END:VEVENT
BEGIN:VEVENT
DTSTART;TZID=Europe/Amsterdam:20251025T140000
DTEND;TZID=Europe/Amsterdam:20251025T153000
DTSTAMP:20260422T121121
CREATED:20250902T133441Z
LAST-MODIFIED:20250908T122712Z
UID:222668-1761400800-1761406200@studiowishdom.nl
SUMMARY:De wens van Katinka (5+)
DESCRIPTION:De wens van Katinka \nKatinka ligt te piekeren in bed.  Ze wil graag rijk en gelukkig worden. Maar hoe doe je dat eigenlijk? Heel hard je best doen op school. Ja\, dat weet ze. Alleen….. dat lukt niet zo goed.  Als ze weer een onvoldoende krijgt\, lijkt haar droom in duigen te vallen. Op een dag krijgt Katinka speciaal bezoek van de Wonderlijke Wensbox. Ze beginnen samen een vrolijk en speels avontuur\, op zoek naar professor Plezier. Weet professor Plezier wat er nodig is om Katinka weer uit de put te halen? \nSpeel mee en ontdek het geheim van professor! \n\n\n 	Datum: zaterdag 25 oktober 2025\n 	Tijd: 14.00 – 15.30\n 	Speel-0-Theek open:  13.50 uur\n 	Leeftijd: 5+\n 	Locatie: Speel-O-Theek De Steeg\, Edisonstraat 47\, 1221 ET Hilversum\n 	Ouders zijn van harte uitgenodigd om mee te doen met de voorstelling én workshop.\n\nTickets \n\n\n 	Link naar reserverings- en betaalmodule\n 	Prijs € 2\,50 per persoon.\n 	Let op: er is ruimte voor maximaal 12 kinderen en ouders. Vooraf reserveren vereist.
URL:https://studiowishdom.nl/evenement/de-wens-van-katinka/
LOCATION:Speel-O-Theek\, Edisonstraat 47\, Hilversum\, Noord-Holland\, 1221 ET\, Netherlands
CATEGORIES:Studio Wishdom
ATTACH;FMTTYPE=image/png:https://studiowishdom.nl/wp-content/uploads/2024/10/Heppie-Heart-Team_.png
ORGANIZER;CN="Studio Wishdom - Carola Pelder":MAILTO:info@studiowishdom.nl
END:VEVENT
BEGIN:VEVENT
DTSTART;TZID=Europe/Amsterdam:20260116T000000
DTEND;TZID=Europe/Amsterdam:20260116T235959
DTSTAMP:20260422T121121
CREATED:20251201T122756Z
LAST-MODIFIED:20251201T123658Z
UID:223053-1768521600-1768607999@studiowishdom.nl
SUMMARY:Lessenserie Creatief Atelier 8+
DESCRIPTION:
URL:https://studiowishdom.nl/evenement/tekenen-knutselen-papierkunst/
CATEGORIES:Studio Wishdom
ATTACH;FMTTYPE=image/png:https://studiowishdom.nl/wp-content/uploads/2025/12/lessenserie-CreaCoollovers-2026.png
END:VEVENT
BEGIN:VEVENT
DTSTART;TZID=Europe/Amsterdam:20260124T090000
DTEND;TZID=Europe/Amsterdam:20260125T170000
DTSTAMP:20260422T121121
CREATED:20250901T155259Z
LAST-MODIFIED:20251201T123703Z
UID:222680-1769245200-1769360400@studiowishdom.nl
SUMMARY:Creatieve Beurs CreaDays
DESCRIPTION:Studio Wishdom op de CreaDays!  \nKom op 24 en 25 januari 2026 naar de Expo Greater Amsterdam in Vijfhuizen en stap binnen in de kleurrijke wereld van Heppie Heart®.   \nWelkom in het Speeltheater!  \nHet is knutselfeest in het Speeltheater. Knutsel en speel gezellig met ons mee!  \nTijdens de beursdagen hebben wij onze stand omgetoverd tot het Heppie Heart® Speeltheater. In het Speeltheater komen de verhalen van het land van Heppie Heart® tot leven. Je ontmoet er Katinka\, professor Plezier\, Stekel en nog veel meer vriendjes van Katinka.  Ga mee op avontuur in het land van Heppie Heart® waar naar hartelust geknutseld en gespeeld wordt in het Speeltheater! \nOntdek onze knutselpakketten en breng feestelijke verhalen tot leven! \nSpeciale aktie! In verband met de introductie van nieuw label Heppie Heart® geeft Carola Pelder korte presentaties van de familievoorstelling De wens van Katinka. Katinka is haar wens weer eens kwijt. Dan heb je de poppen aan het dansen! Katinka komt op wonderlijke wijze in land van Heppie Heart terecht waar zij op zoek gaat naar professor Plezier. Wie helpt er mee zoeken?  \nVoorlopig programma \nHeppie Heart®  Knutselpakketten \nDuik mee in Katinka’s wereld. Met de Heppie Heart® knutselpakketten wordt elke knutselmiddag een avontuur. Lees samen een kort verhaal van Katinka’s avonturen en breng daarna het verhaal tot leven.  Ieder knutselproject is het begin van een nieuw verhaal uit Katinka’s avonturen met professor Plezier\, Stekel. In elk pakket vind je materialen en een werkboekje waarmee je dappere droom- en wensverhalen tot leven knutselt en speelt. \nWorkshop: Gelukdoosjes maken! \nTijdens CreaDays kun je meedoen aan de workshop Geluksdoosjes maken. In deze workshop tover je het geluksdoosje om in een klein speeltheater met een persoonlijke boodschap. \nWie ga jij verrassen met een super lief cadeau?  \n\nVeel geluk! – een doosje vol hoop en positieve energie\nVeel liefs! – een liefdevol gebaar recht uit het hart\nOpkikkertje verdiend! – vrolijkheid in een doosje\, om van te glimlachen\nBe My Valentine! – een liefdevol minitheater voor een speciaal iemand\nMijn Speeltheater – breng het verhaal van Katinka en professor Plezier tot leven.\n\nKosten: € 7\,50 (inclusief gebruik materialen knutseltafel)Duur: 30 minutenStand: Studio Wishdom Datum: 24 en 25 januari 2026 \nGratis voorstelling De Wens van Katinka \nMaak kennis met de avonturen van Katinka met professor Plezier\, Stekel en andere vrienden! Tijdens de beursdagen verzorgt Carola Pelder op vaste tijden een korte presentatie van de familievoorstelling De wens van Katinka. De verhalen kunnen kinderen tot leven brengen met de knutselpakketten. \nKosten: gratis Duur: 15 minutenStand: Heppie HeartDatum: zaterdag 24 januari; 11.00 en 15.00 uur Datum: zondag 25 januari; 11.00 en 15.00 uur \nOver Carola  \nCarola Pelder is StoryArtist en vakdocent Creatieve Storytelling.  Zij heeft jarenlange ervaring als hrm-manager\, talentcoach ASS\, HSP\, HB en ontwerper van creatieve lesmaterialen en creatieve cadeaupakketten\, bedenker en maker van Heppie Heart programma.  Spelen met verhalen is haar grootste passie. \nCreaDays vormt de ultieme beleving voor iedereen met een liefde voor creatieve bezigheden\, of voor degenen die hun creatieve vonk willen ontdekken. Hier vind je niet alleen een overvloed aan creatieve materialen\, maar ook talloze exposanten die inspirerende workshops en demonstraties aanbieden. Creëer\, deel\, beleef en blijf op de hoogte van de laatste creatieve innovaties. \nKortingscode \nKlanten van Studio Wishdom krijgen 20% korting op hun entreekaartje. Gebruik hiervoor de volgende kortingscode: \nGELUKSDOOSJECDAY2K
URL:https://studiowishdom.nl/evenement/creadays/
LOCATION:Expo Greater Amsterdam\, Stelling 1\, Vijfhuizen\, Noord Holland\, 2141 SB\, Netherlands
CATEGORIES:Studio Wishdom
ATTACH;FMTTYPE=image/png:https://studiowishdom.nl/wp-content/uploads/2024/11/galerij-kreadoe-2024-00.png
END:VEVENT
BEGIN:VEVENT
DTSTART;TZID=Europe/Amsterdam:20260408T120000
DTEND;TZID=Europe/Amsterdam:20260408T180000
DTSTAMP:20260422T121121
CREATED:20251201T121847Z
LAST-MODIFIED:20251201T123153Z
UID:223063-1775649600-1775671200@studiowishdom.nl
SUMMARY:Congres Cultuureducatie Amsterdam
DESCRIPTION:
URL:https://studiowishdom.nl/evenement/congres-cultuureducatie-amsterdam/
CATEGORIES:Studio Wishdom
ATTACH;FMTTYPE=image/png:https://studiowishdom.nl/wp-content/uploads/2024/10/Heppie-Heart-Team_.png
END:VEVENT
BEGIN:VEVENT
DTSTART;TZID=Europe/Amsterdam:20261209T000000
DTEND;TZID=Europe/Amsterdam:20261209T235959
DTSTAMP:20260422T121121
CREATED:20251201T123857Z
LAST-MODIFIED:20251201T123858Z
UID:223074-1796774400-1796860799@studiowishdom.nl
SUMMARY:Start nieuwe lessenserie Creatief Atelier 8+ (12 lessen)
DESCRIPTION:
URL:https://studiowishdom.nl/evenement/start-nieuwe-lessenserie-creatief-atelier-8-12-lessen/
CATEGORIES:Studio Wishdom
ATTACH;FMTTYPE=image/png:https://studiowishdom.nl/wp-content/uploads/2025/12/lessenserie-CreaCoollovers-2026.png
END:VEVENT
END:VCALENDAR