BEGIN:VCALENDAR
VERSION:2.0
PRODID:-//Studio Wishdom - ECPv6.15.20//NONSGML v1.0//EN
CALSCALE:GREGORIAN
METHOD:PUBLISH
X-WR-CALNAME:Studio Wishdom
X-ORIGINAL-URL:https://studiowishdom.nl
X-WR-CALDESC:Evenementen voor Studio Wishdom
REFRESH-INTERVAL;VALUE=DURATION:PT1H
X-Robots-Tag:noindex
X-PUBLISHED-TTL:PT1H
BEGIN:VTIMEZONE
TZID:Europe/Amsterdam
BEGIN:DAYLIGHT
TZOFFSETFROM:+0100
TZOFFSETTO:+0200
TZNAME:CEST
DTSTART:20160327T010000
END:DAYLIGHT
BEGIN:STANDARD
TZOFFSETFROM:+0200
TZOFFSETTO:+0100
TZNAME:CET
DTSTART:20161030T010000
END:STANDARD
BEGIN:DAYLIGHT
TZOFFSETFROM:+0100
TZOFFSETTO:+0200
TZNAME:CEST
DTSTART:20170326T010000
END:DAYLIGHT
BEGIN:STANDARD
TZOFFSETFROM:+0200
TZOFFSETTO:+0100
TZNAME:CET
DTSTART:20171029T010000
END:STANDARD
BEGIN:DAYLIGHT
TZOFFSETFROM:+0100
TZOFFSETTO:+0200
TZNAME:CEST
DTSTART:20180325T010000
END:DAYLIGHT
BEGIN:STANDARD
TZOFFSETFROM:+0200
TZOFFSETTO:+0100
TZNAME:CET
DTSTART:20181028T010000
END:STANDARD
END:VTIMEZONE
BEGIN:VEVENT
DTSTART;TZID=Europe/Amsterdam:20170726T140000
DTEND;TZID=Europe/Amsterdam:20170726T160000
DTSTAMP:20260423T195547
CREATED:20170718T124642Z
LAST-MODIFIED:20170725T075525Z
UID:15259-1501077600-1501084800@studiowishdom.nl
SUMMARY:Workshop - Het is feest! (7+)
DESCRIPTION:Het is feest!\nDe workshop is een combinatie van een vertelvoorstelling\, speurtocht en knutselactiviteit. Als het de kinderen lukt het mysterie van de verdwenen diamant op te lossen is het feest. Na afloop van deze middag gaan de kinderen met een schat aan speel-\, knutsel-ervaringen naar huis! \n\nOp jacht naar de verloren schat – Het verhaal\nSebastiaan schrikt op. De bel van de voordeur rinkelt zo hard als hij nog nooit gedaan heeft. Als Sebastiaan de deur opent doet\, staat Katinka daar. Zijn klasgenootje uit groep 5.\n“Volgende week ben ik jarig en ik organiseer een speurtocht in het bos. We gaan op jacht naar de verloren schat. Kom je ook?”\n“Nou en of!” reageert Sebastiaan enthousiast.\nKatinka geeft Sebastiaan de envelop. “Lees de uitnodiging goed. Zorg dat je op tijd bent.” Katinka zegt Sebastiaan gedag en loopt weer verder.\nSebastiaan rent naar zijn slaapkamer. Als hij de envelop open maakt\, ontdekt hij dat het geen gewone uitnodiging is.  “Wow!”  roept Sebastiaan het uit.  Sebastiaan heeft wel heel veel zin in dit feestje. \nDe Speurtocht\nIn Speeltheater WIshdom is een speurtocht uitgezet. De kinderen krijgen verschillende aanwijzingen en opdrachten die ze op het spoor moet brengen van de verloren schat.  Als het de kinderen lukt het mysterie van de verdwenen diamant op te lossen is het feest. \nHet is feest!\nDe speurtocht eindigen we met een knutselactiviteit. De kinderen hebben geluk gehad op hun avontuur! Een succesvol avontuur eindigt altijd met feestje. Onder het genot van drinken en wat lekkers\, maken de kinderen een gelukspoppetje\, geïnspireerd door het avontuur met Katinka\, Sebastiaan en andere vriendjes en vriendinnetjes. In het gelukspoppetje bewaren de kinderen hun vondsten van hun avontuur naar de verloren schat. \nBijdrage in de kosten\nBijdrage:  € 6\,50 p.p. incl. materialen\, drinken en wat lekkers. \nIn verband met het zomerprogramma en de kennismaking met de nieuwe verhalen van Katinka en professor Plezier hebben we een feestelijk tarief. \nSpeel en knutsel je mee?  Vergeet dan niet te reserveren.\nDeze middag is er plaats voor 8 kinderen. Wil je zeker zijn van een plekje\, meld je dan aan via onderstaand formulier. We vragen je om vooraf te betalen. Bedankt. We kijken naar je uit! \n\nBlijf op de hoogte via de nieuwsbrief!
URL:https://studiowishdom.nl/evenement/workshop-geluk-uit-een-doosje/
LOCATION:Studio Wishdom\, Koninginneweg 62\, Kortenhoef\, 1241 CW\, Nederland
CATEGORIES:Studio Wishdom
ATTACH;FMTTYPE=image/jpeg:https://studiowishdom.nl/wp-content/uploads/2017/07/speeltheater-wishdom-geluk-professor-plezier.jpg
ORGANIZER;CN="Studio Wishdom - Carola Pelder":MAILTO:info@studiowishdom.nl
END:VEVENT
END:VCALENDAR