BEGIN:VCALENDAR
VERSION:2.0
PRODID:-//Studio Wishdom - ECPv6.15.20//NONSGML v1.0//EN
CALSCALE:GREGORIAN
METHOD:PUBLISH
X-WR-CALNAME:Studio Wishdom
X-ORIGINAL-URL:https://studiowishdom.nl
X-WR-CALDESC:Evenementen voor Studio Wishdom
REFRESH-INTERVAL;VALUE=DURATION:PT1H
X-Robots-Tag:noindex
X-PUBLISHED-TTL:PT1H
BEGIN:VTIMEZONE
TZID:Europe/Amsterdam
BEGIN:DAYLIGHT
TZOFFSETFROM:+0100
TZOFFSETTO:+0200
TZNAME:CEST
DTSTART:20180325T010000
END:DAYLIGHT
BEGIN:STANDARD
TZOFFSETFROM:+0200
TZOFFSETTO:+0100
TZNAME:CET
DTSTART:20181028T010000
END:STANDARD
BEGIN:DAYLIGHT
TZOFFSETFROM:+0100
TZOFFSETTO:+0200
TZNAME:CEST
DTSTART:20190331T010000
END:DAYLIGHT
BEGIN:STANDARD
TZOFFSETFROM:+0200
TZOFFSETTO:+0100
TZNAME:CET
DTSTART:20191027T010000
END:STANDARD
BEGIN:DAYLIGHT
TZOFFSETFROM:+0100
TZOFFSETTO:+0200
TZNAME:CEST
DTSTART:20200329T010000
END:DAYLIGHT
BEGIN:STANDARD
TZOFFSETFROM:+0200
TZOFFSETTO:+0100
TZNAME:CET
DTSTART:20201025T010000
END:STANDARD
END:VTIMEZONE
BEGIN:VEVENT
DTSTART;TZID=Europe/Amsterdam:20190919T093000
DTEND;TZID=Europe/Amsterdam:20190919T183000
DTSTAMP:20260424T063034
CREATED:20190429T091735Z
LAST-MODIFIED:20190501T093733Z
UID:215761-1568885400-1568917800@studiowishdom.nl
SUMMARY:Symposium Leeromgeving Toekomst
DESCRIPTION:Symposium Leeromgeving van de Toekomst \nHet Stimuleringsfonds Creatieve Industrie organiseert een symposium Leeromgeving van de Toekomst op 19 september 2019 in de Tolhuistuin in Amsterdam. In een actief programma van workshops\, lezingen en debatten bieden twaalf teams van ontwerpers en mbo-instellingen hun kijk op de Leeromgeving van de Toekomst. \nOntwerp Leeromgeving Storykids Academy\nStudio Wishdom ontwikkelt lespakketten voor leerlingen in het basisonderwijs met aandacht voor creatief leren en ontwikkelen. Creatieve ontwikkeling is een belangrijke competentie die kinderen nodig hebben in hun werkzame leven. Studio Wishdom maakt leerlingen en docenten bewust van het nut en de noodzaak van een nieuwe leeromgeving in het schoolproject Heldenverhalen. Maak het mee. In dat project wordt door kinderen op verhalende en creatieve wijze FutureIsland tot leven gewekt.  FutureIsland is een inspiratiebron voor leer- en ontwikkelbehoeften van leerlingen en docenten. FutureIsland de leeromgeving van de toekomst of nu? \nCreatief denken en doen voor ondernemende leerlingen\nCarola Pelder is aanwezig op het symposium en kijkt vol belangstelling uit naar de ontwikkelingen in de kijk op de Leeromgeving van de Toekomst.  Meer informatie symposium \n  \nKlik hier voor informatie Schoolproject FutureIsland \n  \n 
URL:https://studiowishdom.nl/evenement/symposium-leeromgeving-van-de-toekomst-2019/
CATEGORIES:Studio Wishdom
ATTACH;FMTTYPE=image/jpeg:https://studiowishdom.nl/wp-content/uploads/2016/07/StoryArt-Nieuws-Creativiteit-en-Talentontwikkeling.jpg
ORGANIZER;CN="Studio Wishdom - Carola Pelder":MAILTO:info@studiowishdom.nl
END:VEVENT
END:VCALENDAR