BEGIN:VCALENDAR
VERSION:2.0
PRODID:-//Studio Wishdom - ECPv6.15.20//NONSGML v1.0//EN
CALSCALE:GREGORIAN
METHOD:PUBLISH
X-ORIGINAL-URL:https://studiowishdom.nl
X-WR-CALDESC:Evenementen voor Studio Wishdom
REFRESH-INTERVAL;VALUE=DURATION:PT1H
X-Robots-Tag:noindex
X-PUBLISHED-TTL:PT1H
BEGIN:VTIMEZONE
TZID:Europe/Amsterdam
BEGIN:DAYLIGHT
TZOFFSETFROM:+0100
TZOFFSETTO:+0200
TZNAME:CEST
DTSTART:20180325T010000
END:DAYLIGHT
BEGIN:STANDARD
TZOFFSETFROM:+0200
TZOFFSETTO:+0100
TZNAME:CET
DTSTART:20181028T010000
END:STANDARD
BEGIN:DAYLIGHT
TZOFFSETFROM:+0100
TZOFFSETTO:+0200
TZNAME:CEST
DTSTART:20190331T010000
END:DAYLIGHT
BEGIN:STANDARD
TZOFFSETFROM:+0200
TZOFFSETTO:+0100
TZNAME:CET
DTSTART:20191027T010000
END:STANDARD
BEGIN:DAYLIGHT
TZOFFSETFROM:+0100
TZOFFSETTO:+0200
TZNAME:CEST
DTSTART:20200329T010000
END:DAYLIGHT
BEGIN:STANDARD
TZOFFSETFROM:+0200
TZOFFSETTO:+0100
TZNAME:CET
DTSTART:20201025T010000
END:STANDARD
END:VTIMEZONE
BEGIN:VEVENT
DTSTART;TZID=Europe/Amsterdam:20191102T100000
DTEND;TZID=Europe/Amsterdam:20191102T160000
DTSTAMP:20260424T033443
CREATED:20190902T075502Z
LAST-MODIFIED:20190902T081503Z
UID:215916-1572688800-1572710400@studiowishdom.nl
SUMMARY:SpeelDag Amersfoort
DESCRIPTION:SpeelDag Amersfoort \nDe Storykids Academy is aanwezig op de SpeelDag van Speelvrienden op zaterdag 2 november a.s. in Amersfoort! We gaan de kinderen verrassen met een nieuwe kindervoorstelling Sprakeloos. Tussen de voorstellingen door zijn kinderen van harte welkom om te knutselen aan de speel- en knutseltafel. \nDe SpeelDag is een dag vol activiteiten\, experiment\, informatie\, inspiratie\, motivatie\, uitdaging en meer. Voor jonge (vermoedelijk) hoogbegaafde kinderen en hun ouders. Meer informatie en aanmelden SpeeldagHB: Aanmelden Speeldag 2 november 2019 \nProgramma Storykids Academy – Kijken\, luisteren\, meedoen\nGedurende de dag (10.00 – 16.00) kun je kennismaken met de activiteiten van Storykids Academy: \n\nKindertheater ‘Sprakeloos’ met aansluitend een creatieve workshop\, entree € 4\,00 incl. workshop Papieren Helden.\nEr is een knutseltafel waar je o.a. aan de slag kunt met het maken van een geluksdoosje\, een held op stokken\, een vriendenboekje. De knutselpakketjes variëren van € 3\,00 – € 5\,00.\nVoor slechts € 0\,50 speel je mee met het StoryKids Avonturenspel. Je hebt altijd prijs. Speel je mee\, dan maak je tevens kans op één van de 4 extra prijzen. Spannend.\nHeb je zin om te kleuren\, dan hebben we gratis kleurplaten liggen van professor Plezier en zijn vrienden.\n\nSpeciaal op de speeldagen hebben we feestelijke prijzen. \nWorkshoprondes\nWorkshopronde 1 – 11.00 tot 12.00 uur – Workshop ouders: Spel en taalontwikkeling\nWorkshopronde 2 – 13.30 tot 14.30 uur – Interactief Kindertheater: Sprakeloos \nWorkshop ouders – Spel en taalontwikkeling\nSpel is de taal van kinderen. Creatief begaafde kinderen hebben meer dan gemiddeld behoefte aan spel om zich sociaal en emotioneel goed te kunnen uiten en te ontwikkelen.  Bij creatief begaafde kinderen gaan spel\, communicatie en persoonlijke ontwikkeling hand in hand.  Wat zegt een kind als hij of zij speelt of creatief is? Hoe kun je je kind helpen in zijn of haar ontwikkeling met spel en creativiteit?\nIn deze workshop krijg je meer inzicht in de taal van spel en creativiteit. We doen wat korte spelopdrachten\, die je thuis kunt gebruiken. Spelen maar! \nInteractief Kindertheater – Sprakeloos (5+)\nEr is weer van alles aan de hand op avonturenpark FutureIsland. Katinka\, Pim en Merel belanden op wonderlijke wijze op een schateiland. Ze ontmoeten er Piet Piraat. Hij kan de vrienden helpen om weer naar thuis komen. In ruil voor zijn hulp wil hij diamanten zien. Op een schateiland moeten toch diamanten te vinden zijn. Maar waar? Gaat het Katinka\, Pim en Merel lukken om de verborgen diamanten te vinden? \nTijdens een korte speurtocht kunnen de kinderen helpen in de zoektocht. Na afloop wordt er geknutseld met het ontwerp van een Papieren Held.  De ouders zijn van harte welkom om mee te doen. \nReserveren en betalen\nEr is een beperkt aantal plaatsen voor de voorstelling van Sprakeloos (max. 12 ). Wil je zeker zijn van een plaatsje dan kun je vooraf reserveren op de site van SpeeldagHB.  Aanmelden voorstelling Sprakeloos\nBetaling van € 4\,00 voor de voorstelling en workshop is bij entree van de voorstelling.  Er is helaas geen mogelijkheid om met een pinpas te betalen. \nBlijf op de hoogte via de nieuwsbrief! \n  \n 
URL:https://studiowishdom.nl/evenement/speeldag-storykids-academy-2-november-2/
LOCATION:Speeldag Amersfoort\, Juttepeergaarde 2\, Amersfoort\, 3824 BE
CATEGORIES:Studio Wishdom
ATTACH;FMTTYPE=image/jpeg:https://studiowishdom.nl/wp-content/uploads/2019/04/Heldenavontuur-Indiaan-Goudveer-Storykids-Academy.jpg
END:VEVENT
BEGIN:VEVENT
DTSTART;TZID=Europe/Amsterdam:20191102T110000
DTEND;TZID=Europe/Amsterdam:20191102T120000
DTSTAMP:20260424T033443
CREATED:20190902T083455Z
LAST-MODIFIED:20190902T083818Z
UID:215927-1572692400-1572696000@studiowishdom.nl
SUMMARY:Workshop Spel en Taalontwikkeling - ouders
DESCRIPTION:SpeelDag Amersfoort \nWorkshop Spel en Taalontwikkeling\nCarola Pelder\, eigenaar Storykids Academy\, verzorgt een workshop Spel en Taalontwikkeling van 11.00 – 12.00 uur voor ouders\, docenten en begeleiders van creatief begaafde kinderen. \nSpel is de taal van kinderen. Creatief begaafde kinderen hebben meer dan gemiddeld behoefte aan spel om zich sociaal en emotioneel goed te kunnen uiten en te ontwikkelen.  Bij creatief begaafde kinderen gaan spel\, communicatie en persoonlijke ontwikkeling hand in hand.  Wat zegt een kind als hij of zij speelt of creatief is? Hoe kun je je kind helpen in zijn of haar ontwikkeling met spel en creativiteit?\nIn deze workshop krijg je meer inzicht in de taal van spel en creativiteit. We doen wat korte spelopdrachten\, die je thuis kunt gebruiken. Spelen maar! \nAanmelden workshop:  Aanmelden Speeldag 2 november 2019 \nProgramma Storykids Academy – Kijken\, luisteren\, meedoen\nGedurende de dag (10.00 – 16.00) kun je kennismaken met de activiteiten van Storykids Academy: \n\nKindertheater ‘Sprakeloos’ met aansluitend een creatieve workshop\, entree € 4\,00 incl. workshop Papieren Helden.\nEr is een knutseltafel waar je o.a. aan de slag kunt met het maken van een geluksdoosje\, een held op stokken\, een vriendenboekje. De knutselpakketjes variëren van € 3\,00 – € 5\,00.\nVoor slechts € 0\,50 speel je mee met het StoryKids Avonturenspel. Je hebt altijd prijs. Speel je mee\, dan maak je tevens kans op één van de 4 extra prijzen. Spannend.\nHeb je zin om te kleuren\, dan hebben we gratis kleurplaten liggen van professor Plezier en zijn vrienden.\n\nSpeciaal op de speeldagen hebben we feestelijke prijzen. \nWorkshoprondes\nWorkshopronde 1 – 11.00 tot 12.00 uur – Workshop ouders: Spel en taalontwikkeling\nWorkshopronde 2 – 13.30 tot 14.30 uur – Interactief Kindertheater: Sprakeloos \nWorkshop ouders – Spel en taalontwikkeling\nSpel is de taal van kinderen. Creatief begaafde kinderen hebben meer dan gemiddeld behoefte aan spel om zich sociaal en emotioneel goed te kunnen uiten en te ontwikkelen.  Bij creatief begaafde kinderen gaan spel\, communicatie en persoonlijke ontwikkeling hand in hand.  Wat zegt een kind als hij of zij speelt of creatief is? Hoe kun je je kind helpen in zijn of haar ontwikkeling met spel en creativiteit?\nIn deze workshop krijg je meer inzicht in de taal van spel en creativiteit. We doen wat korte spelopdrachten\, die je thuis kunt gebruiken. Spelen maar! \nInteractief Kindertheater – Sprakeloos (5+)\nEr is weer van alles aan de hand op avonturenpark FutureIsland. Katinka\, Pim en Merel belanden op wonderlijke wijze op een schateiland. Ze ontmoeten er Piet Piraat. Hij kan de vrienden helpen om weer naar thuis komen. In ruil voor zijn hulp wil hij diamanten zien. Op een schateiland moeten toch diamanten te vinden zijn. Maar waar? Gaat het Katinka\, Pim en Merel lukken om de verborgen diamanten te vinden? \nTijdens een korte speurtocht kunnen de kinderen helpen in de zoektocht. Na afloop wordt er geknutseld met het ontwerp van een Papieren Held.  De ouders zijn van harte welkom om mee te doen. \nReserveren en betalen\nEr is een beperkt aantal plaatsen voor de voorstelling van Sprakeloos (max. 12 ). Wil je zeker zijn van een plaatsje dan kun je vooraf reserveren op de site van SpeeldagHB.  Aanmelden voorstelling Sprakeloos\nBetaling van € 4\,00 voor de voorstelling en workshop is bij entree van de voorstelling.  Er is helaas geen mogelijkheid om met een pinpas te betalen. \nBlijf op de hoogte via de nieuwsbrief! \n  \n 
URL:https://studiowishdom.nl/evenement/speeldag-storykids-academy-2-november-2-2/
LOCATION:Speeldag Amersfoort\, Juttepeergaarde 2\, Amersfoort\, 3824 BE
CATEGORIES:Studio Wishdom
ATTACH;FMTTYPE=image/jpeg:https://studiowishdom.nl/wp-content/uploads/2019/04/Heldenavontuur-Indiaan-Goudveer-Storykids-Academy.jpg
END:VEVENT
END:VCALENDAR