BEGIN:VCALENDAR
VERSION:2.0
PRODID:-//Studio Wishdom - ECPv6.15.20//NONSGML v1.0//EN
CALSCALE:GREGORIAN
METHOD:PUBLISH
X-WR-CALNAME:Studio Wishdom
X-ORIGINAL-URL:https://studiowishdom.nl
X-WR-CALDESC:Evenementen voor Studio Wishdom
REFRESH-INTERVAL;VALUE=DURATION:PT1H
X-Robots-Tag:noindex
X-PUBLISHED-TTL:PT1H
BEGIN:VTIMEZONE
TZID:Europe/Amsterdam
BEGIN:DAYLIGHT
TZOFFSETFROM:+0100
TZOFFSETTO:+0200
TZNAME:CEST
DTSTART:20200329T010000
END:DAYLIGHT
BEGIN:STANDARD
TZOFFSETFROM:+0200
TZOFFSETTO:+0100
TZNAME:CET
DTSTART:20201025T010000
END:STANDARD
BEGIN:DAYLIGHT
TZOFFSETFROM:+0100
TZOFFSETTO:+0200
TZNAME:CEST
DTSTART:20210328T010000
END:DAYLIGHT
BEGIN:STANDARD
TZOFFSETFROM:+0200
TZOFFSETTO:+0100
TZNAME:CET
DTSTART:20211031T010000
END:STANDARD
BEGIN:DAYLIGHT
TZOFFSETFROM:+0100
TZOFFSETTO:+0200
TZNAME:CEST
DTSTART:20220327T010000
END:DAYLIGHT
BEGIN:STANDARD
TZOFFSETFROM:+0200
TZOFFSETTO:+0100
TZNAME:CET
DTSTART:20221030T010000
END:STANDARD
END:VTIMEZONE
BEGIN:VEVENT
DTSTART;TZID=Europe/Amsterdam:20210610T190000
DTEND;TZID=Europe/Amsterdam:20210610T203000
DTSTAMP:20260422T200656
CREATED:20201214T121012Z
LAST-MODIFIED:20210603T175157Z
UID:219827-1623351600-1623357000@studiowishdom.nl
SUMMARY:Thema-avond creatief (hoog)begaafdheid
DESCRIPTION:Valt je op dat jouw kind best wijs is\, maar blijven de resultaten achter? Wil je graag weten wat jouw bezighoudt? Ben je op zoek naar praktische en concrete oplossingen om het zelfvertrouwen en weerbaarheid van jouw kind te vergroten?  \nIs jouw kind een snelle en originele denker? Houdt jouw zoon of dochter ervan om creatief te zijn? Geniet hij of zij van spelen\, tekenen\, knutselen en sterke verhalen met veel fantasie? Heeft jouw dochter of zoon moeite met leren\, herken je concentratieproblemen of problemen met het plannen van zijn of haar werk? \nVermoedelijk is jouw kind creatief (hoog)begaafd.  Creatief begaafde kinderen zijn heel talentvol\, toch kunnen zij moeite hebben met leren en daardoor vastlopen. Creatief begaafde kinderen zijn snelle en originele denkers en doeners. Hun gedachten gaan vaak zo snel\, dat zij moeite kunnen hebben om overzicht en structuur te vinden. Alles heeft met alles te maken. Als kinderen dan niet begrepen worden geeft het spanning en stress. Het ene kind uit het in boosheid\, een ander kind kan heel verdrietig of passief worden. \nVroegtijdig signaleren van creatief (hoog)begaafde kinderen is dan ook van belang voor een gezonde en sterke ontwikkeling. Net als voor alle kinderen is het voor creatief (hoog)begaafde kinderen belangrijk dat zij vertrouwd raken met hun eigen manier van denken en leren\, zodat zij met plezier en vertrouwen hun eigen keuzes kunnen maken. \nWat deze kinderen helpt\, is dat zij zich creatief kunnen uiten. Hun creatieve expressie is hun emotionele uitlaatklep. Tegelijkertijd ontwikkelen zij ook hun creatieve talenten.  Zoals een kind met voetballes\, later professioneel voetballer kan worden. Zo kan een creatief kind met creatieve lessen\, later professioneel ontwerper\, illustrator of vormgever worden.  Een getalenteerd kind kan pas plezier hebben van zijn of haar talenten als het ook de kans krijgt om het te ontwikkelen en weet hoe hij zijn talenten kan gebruiken. \nProgramma\n\nCreatief (hoog)begaafdheid. Hoe herken ik het?\nCreatieve kinderen denken en leren anders. Wat is er dan anders?\nHoe kun je creatieve kinderen helpen in hun communicatie?\nPraktische en creatieve tips en oefeningen om zelfvertrouwen en weerbaarheid te vergroten.\n\nOverige informatie\n\nVoor wie: ouders van kinderen in leeftijd van 6 – 12 jaar\nDatum: donderdagavond 10 juni a.s.\nTijd: 19.00 – 20.30 uur\, ontvangst vanaf 19.15 uur\nBijdrage: € 35\,00 per persoon\,  incl. werkboek met oefeningen en tips\nReserveren: Graag reserveren via online-aanmeldformulier. Deze vind je onderaan deze pagina.\nBetalen: Na ontvangst van € 35\,00 is jouw reservering definitief.\nLocatie: Studio Wishdom – Koninginneweg 62  in Kortenhoef\nVeilig bezoek: I.v.m. Corona is er ruimte voor maximaal 6 bezoekers.\n\n  \nCarola Pelder – talentcoach\, wereldspel Expert\nCarola Pelder verzorgt deze avond. Zij ontwerpt creatieve communicatiemiddelen\, workshops en lesprogramma’s voor creatief (hoog)begaafde kinderen en volwassen. Ongeveer 10 jaar geleden is vastgesteld dat Carola zelf creatief hoogbegaafd is. Als onderdeel van haar herstel ontwikkelde zij tal van spellen en creatieve werkvormen. Carola herkent de uitdagingen en de oplossingen voor een gezond en gelukkig leven. \nWereldspel Expert\nCarola Pelder is opgeleid tot Wereldspel Expert. Met behulp van afname van het Wereldspel en afname van uitgebreid onderwijskundig onderzoek wordt inzicht verkregen\, hoe het kind zijn wereld beleeft\, hoe hij ermee omgaat\, en wat de cognitieve aspecten zijn van het kind. Het wereldspel is een krachtig instrument\, vooral in situaties waarbij communiceren moeilijk is. Denk aan taal-zwakke leerlingen (dyslexie\, TOS\, ASS\, AD/HD) en anderstaligen. Het non-verbale onderzoeksinstrument wordt zeer gewaardeerd door hoogbegaafdheidsspecialisten\, doordat he duidelijke signalen afgeeft naar cognitie en begaafdheid\, zelfs als de resultaten op school of van een erkende IQ-test dit niet laten zien of zelfs tegenspreken. Het Wereldspel geniet internationale erkenning. Er wordt meer gewerkt door internationale hoogbegaafdheidsorganisaties in onder andere Denemarken\, Griekenland en Amerika.  Meer informatie is te vinden op www.wereldspel.nl \nAanmelden voor een veilig bezoek\n\nBel of mail ons voor het reserveren van een bezoek aan de informatie-avond. Het is voor alle bezoekers verplicht om vooraf een kaartje te kopen. Zo zorgen wij ervoor dat het bezoek aan de Storykids Academy veilig verloopt.\nEen reservering is definitief als het geld voor de informatie-avond is overgemaakt. Het is niet mogelijk om met contant geld te betalen. Bij de entree van de Storykids Academy worden helaas geen kaarten verkocht.\nVerplaats je bezoek naar een andere datum als je één of meerdere van de volgende gezondheidsklachten hebt: hoesten\, neusverkoudheid\, koorts vanaf 38 graden of benauwdheidsklachten. Heb je hierover vragen neem dan contact op met info@studiowishdom.nl of 06 – 30 30 56 98 en vraag naar Carola Pelder.\nVoordat je de Storykids Academy bezoekt wordt gevraagd of je één of meerdere van de volgende gezondheidsklachten hebt: hoesten\, neusverkoudheid\, koorts vanaf 38 graden of benauwdheidsklachten. Als je klachten hebt\, vragen we je het bezoek te verplaatsen naar een andere dag.\nDe  richtlijnen van het RIVM en werkt volgens het protocol van NOBTRA voor veilig trainen.\nWas iedere keer je handen voordat je de trainingsruimte betreedt.\nEr zijn reinigingsdoekjes en -gel aanwezig.\nDe workshopruimte is zo ingericht\, dat onze bezoekers minimaal 1\,5 meter afstand kunnen houden tot andere personen.\nIedereen heeft een eigen vaste zitplaats.\nGebruik je eigen schrijfmateriaal.\nDe ruimte wordt extra vaak schoongemaakt. Dit geld ook voor de toiletten.\n\nPlan je bezoek \n\nReserveer via online antwoordformulier. Deze vind je onderaan op deze pagina.\nWij informeren naar de naam\, leeftijd en mailadres van onze gasten.\n\nJe ontvangt een schriftelijke bevestiging van je reservering met datum en tijd. De reservering is definitief\, nadat de bijdrage voor bezoek aan informatie-avond op onze rekening is bijgeschreven. \nIk wens je een mooie en hoopvolle avond\nCarola Pelder –  Talentcoach \n 
URL:https://studiowishdom.nl/evenement/thema-avond-creatief-hoogbegaafdheid/
LOCATION:Studio Wishdom\, Koninginneweg 62\, Kortenhoef\, 1241 CW\, Nederland
ATTACH;FMTTYPE=image/jpeg:https://studiowishdom.nl/wp-content/uploads/2020/08/Informatie-avond-hb-ouders-800-x-600.jpg
ORGANIZER;CN="Studio Wishdom - Carola Pelder":MAILTO:info@studiowishdom.nl
END:VEVENT
END:VCALENDAR