BEGIN:VCALENDAR
VERSION:2.0
PRODID:-//Studio Wishdom - ECPv6.15.20//NONSGML v1.0//EN
CALSCALE:GREGORIAN
METHOD:PUBLISH
X-WR-CALNAME:Studio Wishdom
X-ORIGINAL-URL:https://studiowishdom.nl
X-WR-CALDESC:Evenementen voor Studio Wishdom
REFRESH-INTERVAL;VALUE=DURATION:PT1H
X-Robots-Tag:noindex
X-PUBLISHED-TTL:PT1H
BEGIN:VTIMEZONE
TZID:Europe/Amsterdam
BEGIN:DAYLIGHT
TZOFFSETFROM:+0100
TZOFFSETTO:+0200
TZNAME:CEST
DTSTART:20210328T010000
END:DAYLIGHT
BEGIN:STANDARD
TZOFFSETFROM:+0200
TZOFFSETTO:+0100
TZNAME:CET
DTSTART:20211031T010000
END:STANDARD
BEGIN:DAYLIGHT
TZOFFSETFROM:+0100
TZOFFSETTO:+0200
TZNAME:CEST
DTSTART:20220327T010000
END:DAYLIGHT
BEGIN:STANDARD
TZOFFSETFROM:+0200
TZOFFSETTO:+0100
TZNAME:CET
DTSTART:20221030T010000
END:STANDARD
BEGIN:DAYLIGHT
TZOFFSETFROM:+0100
TZOFFSETTO:+0200
TZNAME:CEST
DTSTART:20230326T010000
END:DAYLIGHT
BEGIN:STANDARD
TZOFFSETFROM:+0200
TZOFFSETTO:+0100
TZNAME:CET
DTSTART:20231029T010000
END:STANDARD
END:VTIMEZONE
BEGIN:VEVENT
DTSTART;TZID=Europe/Amsterdam:20220225T150000
DTEND;TZID=Europe/Amsterdam:20220225T170000
DTSTAMP:20260422T073906
CREATED:20211210T095620Z
LAST-MODIFIED:20211221T132644Z
UID:220706-1645801200-1645808400@studiowishdom.nl
SUMMARY:Lessenserie Heldenverhalen
DESCRIPTION:Wil jij jouw kind helpen met meer zelfvertrouwen?\nVind jouw kind het lastig om te vertellen wat er aan de hand is?\nWil jij jouw kind beter begrijpen?\nHoud jouw kind van tekenen\, spel en knutselen? \nDan is deze nieuwe lessenserie heel waardevol. \nTijdens 12 workshops doet jouw kind ervaring op met verschillende creatieve werkvormen die het zelfvertrouwen en de mogelijkheden voor betere communicatie versterken. \nKinderen uiten zich makkelijker in spel en creativiteit. Als je kinderen vraagt hoe zij zich voelen\, zul je waarschijnlijk een kort gesprek hebben. Kinderen hebben vaak nog niet de taal om hun gevoelens en emoties onder woorden te brengen. De woorden ontbreken gewoonweg nog.  Ook zijn kinderen in ontwikkeling. Naarmate kinderen ouder worden ontwikkelen ze steeds meer emoties en gevoelens. Gevoelens van bijvoorbeeld boosheid\, angst\, schaamte\, verliefdheid\, verlegenheid kunnen ze wel voelen maar weten nog niet hoe ze ermee moeten omgaan. Ze stoppen het weg\, of uiten het in alle heftigheid. \nSpel en creatieve werkvormen helpt kinderen om taal en woorden te vinden voor hun emoties en gevoelens.  Het is daarom belangrijk dat kinderen\, ongeacht hun leeftijd\, blijven spelen en knutselen. \nTijdens 12 workshops doet jouw kind ervaring op met verschillende creatieve werkvormen die het zelfvertrouwen en de mogelijkheden voor betere communicatie versterken. \nGeef je dan op via www.studiowishdom.nl.\nHet aantal cursusplaatsen is beperkt. Ik hou rekening met de Coronaregels van de Rijksoverheid. \n\n 
URL:https://studiowishdom.nl/evenement/lessenserie-heldenverhalen/
LOCATION:Studio Wishdom\, Koninginneweg 62\, Kortenhoef\, 1241 CW\, Nederland
CATEGORIES:Studio Wishdom
ATTACH;FMTTYPE=image/jpeg:https://studiowishdom.nl/wp-content/uploads/2021/12/programma-voorjaar-2022-happy-storykids-500x700-1.jpg
ORGANIZER;CN="Studio Wishdom - Carola Pelder":MAILTO:info@studiowishdom.nl
END:VEVENT
END:VCALENDAR